BEGIN:VCALENDAR
VERSION:2.0
PRODID:spatie/icalendar-generator
DESCRIPTION:Evenementen van ACLO
X-WR-CALDESC:Evenementen van ACLO
REFRESH-INTERVAL;VALUE=DURATION:PT1440M
X-PUBLISHED-TTL:PT1440M
BEGIN:VTIMEZONE
TZID:Etc/GMT+0
BEGIN:STANDARD
DTSTART:20231214T000000Z
TZOFFSETFROM:+0000
TZOFFSETTO:+0000
END:STANDARD
END:VTIMEZONE
BEGIN:VTIMEZONE
TZID:UTC
BEGIN:STANDARD
DTSTART:20250724T131655Z
TZOFFSETFROM:+0000
TZOFFSETTO:+0000
END:STANDARD
END:VTIMEZONE
BEGIN:VEVENT
UID:8-7
DTSTAMP:20260420T131655Z
SUMMARY:Start periode 1A
LOCATION:
ORGANIZER;CN=ACLO:MAILTO:aclo.coordinator-pr@rug.nl
DTSTART;TZID=Etc/GMT+0;VALUE=DATE:20240909
DTEND;TZID=Etc/GMT+0;VALUE=DATE:20240910
X-ALT-DESC;FMTTYPE=TEXT/HTML:Vanaf vandaag beginnen de cursussen in periode
  1A. Veel plezier!!
CATEGORIES:General
URL;VALUE=URI:https://aclosport.nl/mc-events/start-periode-1a/
METHOD:PUBLISH
END:VEVENT
END:VCALENDAR