BEGIN:VCALENDAR
VERSION:2.0
PRODID:spatie/icalendar-generator
DESCRIPTION:Evenementen van ACLO
X-WR-CALDESC:Evenementen van ACLO
REFRESH-INTERVAL;VALUE=DURATION:PT1440M
X-PUBLISHED-TTL:PT1440M
BEGIN:VTIMEZONE
TZID:Etc/GMT+0
BEGIN:STANDARD
DTSTART:20240411T000000Z
TZOFFSETFROM:+0000
TZOFFSETTO:+0000
END:STANDARD
END:VTIMEZONE
BEGIN:VTIMEZONE
TZID:UTC
BEGIN:STANDARD
DTSTART:20250730T022346Z
TZOFFSETFROM:+0000
TZOFFSETTO:+0000
END:STANDARD
END:VTIMEZONE
BEGIN:VEVENT
UID:27-23
DTSTAMP:20260426T022346Z
SUMMARY:Start cursusperiode 2B
LOCATION:
ORGANIZER;CN=ACLO:MAILTO:aclo.coordinator-pr@rug.nl
DTSTART;TZID=Etc/GMT+0:20250106T000000
DTEND;TZID=Etc/GMT+0:20250106T010000
X-ALT-DESC;FMTTYPE=TEXT/HTML:Vanaf vandaag begint cursusperiode 2B. Veel pl
 ezier bij de cursus!
CATEGORIES:General
URL;VALUE=URI:https://aclosport.nl/mc-events/start-cursusperiode-2b/
METHOD:PUBLISH
END:VEVENT
END:VCALENDAR